BEGIN:VCALENDAR
VERSION:2.0
PRODID:-//Life Church Rockland - ECPv6.2.0.1//NONSGML v1.0//EN
CALSCALE:GREGORIAN
METHOD:PUBLISH
X-ORIGINAL-URL:http://lifechurchrockland.org
X-WR-CALDESC:Events for Life Church Rockland
REFRESH-INTERVAL;VALUE=DURATION:PT1H
X-Robots-Tag:noindex
X-PUBLISHED-TTL:PT1H
BEGIN:VTIMEZONE
TZID:UTC
BEGIN:STANDARD
TZOFFSETFROM:+0000
TZOFFSETTO:+0000
TZNAME:UTC
DTSTART:20280101T000000
END:STANDARD
TZID:America/New_York
BEGIN:DAYLIGHT
TZOFFSETFROM:-0500
TZOFFSETTO:-0400
TZNAME:EDT
DTSTART:20280312T070000
END:DAYLIGHT
BEGIN:STANDARD
TZOFFSETFROM:-0400
TZOFFSETTO:-0500
TZNAME:EST
DTSTART:20281105T060000
END:STANDARD
END:VTIMEZONE
BEGIN:VEVENT
DTSTART;TZID=UTC:20280412T183000
DTEND;TZID=UTC:20280412T183000
DTSTAMP:20260420T201531
CREATED:20221103T234015Z
LAST-MODIFIED:20221103T234015Z
UID:4429-1839177000-1839177000@lifechurchrockland.org
SUMMARY:Prayer
DESCRIPTION:
URL:http://lifechurchrockland.org/event/prayer/2028-04-12/
END:VEVENT
BEGIN:VEVENT
DTSTART;TZID=America/New_York:20280416T103000
DTEND;TZID=America/New_York:20280416T113000
DTSTAMP:20260420T201531
CREATED:20201130T233543Z
LAST-MODIFIED:20201130T233543Z
UID:4432-1839493800-1839497400@lifechurchrockland.org
SUMMARY:LIFE Church
DESCRIPTION:
URL:http://lifechurchrockland.org/event/life-church/2028-04-16/
END:VEVENT
BEGIN:VEVENT
DTSTART;TZID=UTC:20280418T110000
DTEND;TZID=UTC:20280418T140000
DTSTAMP:20260420T201531
CREATED:20221103T234328Z
LAST-MODIFIED:20221103T234328Z
UID:4433-1839668400-1839679200@lifechurchrockland.org
SUMMARY:Open Hours at LIFE Church
DESCRIPTION:
URL:http://lifechurchrockland.org/event/open-hours-at-life-church-2023-01-03/2028-04-18/
END:VEVENT
BEGIN:VEVENT
DTSTART;TZID=UTC:20280418T110000
DTEND;TZID=UTC:20280418T140000
DTSTAMP:20260420T201531
CREATED:20221103T234328Z
LAST-MODIFIED:20221103T234328Z
UID:4434-1839668400-1839679200@lifechurchrockland.org
SUMMARY:Open Hours at LIFE Church
DESCRIPTION:
URL:http://lifechurchrockland.org/event/open-hours-at-life-church-2025-01-01/2028-04-18/
END:VEVENT
BEGIN:VEVENT
DTSTART;TZID=UTC:20280419T110000
DTEND;TZID=UTC:20280419T140000
DTSTAMP:20260420T201531
CREATED:20221103T234328Z
LAST-MODIFIED:20221103T234328Z
UID:4437-1839754800-1839765600@lifechurchrockland.org
SUMMARY:Open Hours at LIFE Church
DESCRIPTION:
URL:http://lifechurchrockland.org/event/open-hours-at-life-church-2025-01-01/2028-04-19/
END:VEVENT
BEGIN:VEVENT
DTSTART;TZID=UTC:20280419T110000
DTEND;TZID=UTC:20280419T140000
DTSTAMP:20260420T201531
CREATED:20221103T234328Z
LAST-MODIFIED:20221103T234328Z
UID:4436-1839754800-1839765600@lifechurchrockland.org
SUMMARY:Open Hours at LIFE Church
DESCRIPTION:
URL:http://lifechurchrockland.org/event/open-hours-at-life-church-2023-01-03/2028-04-19/
END:VEVENT
BEGIN:VEVENT
DTSTART;TZID=UTC:20280419T183000
DTEND;TZID=UTC:20280419T183000
DTSTAMP:20260420T201531
CREATED:20221103T234015Z
LAST-MODIFIED:20221103T234015Z
UID:4435-1839781800-1839781800@lifechurchrockland.org
SUMMARY:Prayer
DESCRIPTION:
URL:http://lifechurchrockland.org/event/prayer/2028-04-19/
END:VEVENT
END:VCALENDAR